BEGIN:VCALENDAR
VERSION:2.0
PRODID:-//MUSE DHC - ECPv6.15.17//NONSGML v1.0//EN
CALSCALE:GREGORIAN
METHOD:PUBLISH
X-WR-CALNAME:MUSE DHC
X-ORIGINAL-URL:https://musedhc.ambienteitalia.it
X-WR-CALDESC:Events for MUSE DHC
REFRESH-INTERVAL;VALUE=DURATION:PT1H
X-Robots-Tag:noindex
X-PUBLISHED-TTL:PT1H
BEGIN:VTIMEZONE
TZID:UTC
BEGIN:STANDARD
TZOFFSETFROM:+0000
TZOFFSETTO:+0000
TZNAME:UTC
DTSTART:20250101T000000
END:STANDARD
END:VTIMEZONE
BEGIN:VEVENT
DTSTART;TZID=UTC:20260213T000000
DTEND;TZID=UTC:20260213T000000
DTSTAMP:20260419T222528
CREATED:20260220T152600Z
LAST-MODIFIED:20260220T152726Z
UID:2876-1770940800-1770940800@musedhc.ambienteitalia.it
SUMMARY:Grand Challenges Scholars Program
DESCRIPTION:The MUSE DHC partner Engreen is organising the opening event of the Grand Challenges Scholars Program (GCSP)\, happening in Rome on 13 February. \n\n\n\nThis is an international educational initiative designed to prepare students to address major global challenges through interdisciplinary approaches that connect technology\, research\, innovation\, and social impact. \n\n\n\nThroughout the day\, Engreen will showcase selected projects\, including MUSE DHC\, covering district heating and cooling\, mini-grids\, healthcare energy systems\, hydrogen pilots\, digitalisation and community models. \n\n\n\nClick here for further information.
URL:https://musedhc.ambienteitalia.it/event/grand-challenges-scholars-program/
ATTACH;FMTTYPE=image/jpeg:https://musedhc.ambienteitalia.it/wp-content/uploads/2026/02/Energy-Innovation-scaled.jpg
END:VEVENT
END:VCALENDAR